BEGIN:VCALENDAR
VERSION:2.0
PRODID:-//MC Windsbach - ECPv5.0.1//NONSGML v1.0//EN
CALSCALE:GREGORIAN
METHOD:PUBLISH
X-WR-CALNAME:MC Windsbach
X-ORIGINAL-URL:https://mcwindsbach.de
X-WR-CALDESC:Veranstaltungen im MC Windsbach
BEGIN:VTIMEZONE
TZID:Europe/Berlin
BEGIN:DAYLIGHT
TZOFFSETFROM:+0100
TZOFFSETTO:+0200
TZNAME:CEST
DTSTART:20200329T010000
END:DAYLIGHT
BEGIN:STANDARD
TZOFFSETFROM:+0200
TZOFFSETTO:+0100
TZNAME:CET
DTSTART:20201025T010000
END:STANDARD
END:VTIMEZONE
BEGIN:VEVENT
DTSTART;TZID=Europe/Berlin:20201011T100000
DTEND;TZID=Europe/Berlin:20201011T170000
DTSTAMP:20260422T065853
CREATED:20200125T185837Z
LAST-MODIFIED:20200911T131608Z
UID:1387-1602410400-1602435600@mcwindsbach.de
SUMMARY:Termin abgesagt â€“ 2. Autocross in Windsbach 2020
DESCRIPTION:Aufgrund der aktuellen Lage bekommen wir leider keine Genehmigung fÃ¼r unser Autocross und mÃ¼ssen es deshalb leider absagen. \n  \nRennleitungsbÃ¼ro eingerichtet \nvon Samstag 16.00 Uhr bis 18.30 Uhr \nvon Sonntag 07.30 Uhr bis 17.00 Uhr \nNennung an: Herbert Amm \nJahnring 27 \n91575 Windsbach \nTel. +49 (0) 9871 / 1651 \nFax +49 (0) 322 / 22439848 \nE-Mail nennung@mcwindsbach.de \nNennungsschluss \nVorlÃ¤ufiger Nennungsschluss eine Woche vor dem Rennen (Sonntag 24.00 Uhr). \nEndgÃ¼ltiger Nennungsschluss am Samstag vor dem Rennen um 18.30 Uhr. \nNenngeld \nClubmitgliederÂ Â Â Â Â Â Â Â Â Â Â Â Â Â Â Â Â  mit VeranstalterwerbungÂ Â Â Â Â Â Â  30 â‚¬Â Â Â Â  Â Â Â Â Â Â Â Â Â Â Â  ohne VeranstalterwerbungÂ Â Â Â  35 â‚¬ \nNichtmitgliederÂ Â Â Â Â Â Â Â Â Â Â  Â  Â  mit Veranstalterwerbung Â Â Â Â Â Â  45 â‚¬Â Â Â Â  Â Â Â Â Â Â Â Â Â Â Â  ohne VeranstalterwerbungÂ Â Â Â  50 â‚¬ \nJugend MitgliederÂ Â Â Â Â Â Â  Â  Â  mit Veranstalterwerbung Â Â Â Â Â Â  15 â‚¬Â Â Â Â Â Â Â Â Â Â Â Â Â Â Â Â  ohne VeranstalterwerbungÂ Â Â Â  20 â‚¬ \nJugend NichtmitgliederÂ  mit VeranstalterwerbungÂ Â Â Â Â Â Â  25 â‚¬Â Â Â Â Â Â Â Â Â Â Â Â Â Â Â Â  ohne VeranstalterwerbungÂ Â Â Â  30 â‚¬ \nNachnennungÂ Â Â Â Â Â Â Â Â Â Â Â Â Â Â Â Â Â Â Â Â Â Â Â Â Â Â Â Â Â Â Â Â Â Â Â Â Â Â Â Â Â Â Â Â Â Â Â Â Â Â Â  Â  Â  Â  Â  Â  Â  Â  Â  Â Â Â Â  10 â‚¬ \nTransponderleihgebÃ¼hrÂ Â Â Â Â Â Â Â Â Â Â Â Â Â Â Â Â Â Â Â Â Â Â Â Â Â Â Â Â Â Â Â Â Â Â Â Â Â Â Â Â Â Â  Â  Â  Â Â  Â  Â  Â  10 â‚¬Â Â Â Â Â Â Â Â Â Â Â Â Â Â Â Â  TransponderhalterÂ Â Â Â Â Â Â Â Â Â Â Â Â Â Â Â  Â Â  5 â‚¬ \nMitgliedsbeitrag jÃ¤hrlichÂ Â Â Â Â Â Â Â Â Â Â Â Â Â Â Â Â Â Â Â Â Â Â Â Â Â Â Â Â Â Â Â Â Â Â Â Â Â Â Â Â Â Â Â Â Â Â Â Â Â Â Â Â Â  10 â‚¬ \nRennleiter \nGerhard Ulsenheimer \nAnsbacherstraÃŸe 27 \n91575 Windsbach \nguller.ulsenheimer@mcwindsbach.de \nStellvertreter \nStephan Hiltner\nBadgasse 1\n91728 Gnotzheim \nstephan.hiltner@mcwindsbach.de \n  \nZeitnahme \nDie Zeitnahme erfolgt mit einer Transponderanlage. Bei jedem Teilnehmer muss ein Transponderhalter inkl. AMB Transponder verbaut sein. Die Transponderhalter und Transponder kÃ¶nnen bei uns gekauft oder geliehen werden. \n  \nZeitplan Autocross in Windsbach \nSamstag\n16:00 &#8211; 18:30 Uhr Papierabnahme / Technische Abnahme\n18:30 Uhr EndgÃ¼ltiger Nennschluss \nSonntag\n07:30 â€“ 08:15 Uhr Papierabnahme / Technische Abnahme\n08:30 Uhr Fahrerbesprechung am StarterhÃ¤uschen\n09:00 Uhr Transpondertest 1 Runde\n10:00 Uhr Zeittraining aller Klassen 1 Runde\n11:00 Uhr 1. Wertungslauf Klasse 1 bis 3 10 Runden\n12:00 Uhr Mittagspause / Streckenabreiten\n12:30 Uhr 1. Wertungslauf Klasse 4 bis 8 10 Runden\n13:30 Uhr evtl. Streckenarbeiten\n14:00 Uhr 2. Wertungslauf Klasse 1 bis 8 10 Runden\n15:30 Uhr evtl. Streckenarbeiten\n16:00 Uhr 3. Wertungslauf Klasse \n
URL:https://mcwindsbach.de/event/2-autocross-in-windsbach-2020/
LOCATION:Motorsportarena Wernsbachring\, St2410\, Windsbach\, Bayern\, 91575\, Deutschland
CATEGORIES:Autocross,Motorsport
ATTACH;FMTTYPE=image/jpeg:https://mcwindsbach.de/wp-content/uploads/2020/09/Crosstafel_2020-2_abgesagt.jpg
ORGANIZER;CN="Motorsportclub%20Windsbach%20e.V.%20im%20KS":MAILTO:kontakt@mcwindsbach.de
END:VEVENT
END:VCALENDAR