BEGIN:VCALENDAR
VERSION:2.0
PRODID:-//MC Windsbach - ECPv5.0.1//NONSGML v1.0//EN
CALSCALE:GREGORIAN
METHOD:PUBLISH
X-WR-CALNAME:MC Windsbach
X-ORIGINAL-URL:https://mcwindsbach.de
X-WR-CALDESC:Veranstaltungen im MC Windsbach
BEGIN:VTIMEZONE
TZID:Europe/Berlin
BEGIN:DAYLIGHT
TZOFFSETFROM:+0100
TZOFFSETTO:+0200
TZNAME:CEST
DTSTART:20200329T010000
END:DAYLIGHT
BEGIN:STANDARD
TZOFFSETFROM:+0200
TZOFFSETTO:+0100
TZNAME:CET
DTSTART:20201025T010000
END:STANDARD
END:VTIMEZONE
BEGIN:VEVENT
DTSTART;TZID=Europe/Berlin:20200517T130000
DTEND;TZID=Europe/Berlin:20200517T170000
DTSTAMP:20260422T052144
CREATED:20200127T063334Z
LAST-MODIFIED:20200911T130730Z
UID:1398-1589720400-1589734800@mcwindsbach.de
SUMMARY:Termin abgesagt – Auto Slalom 2020
DESCRIPTION:Auf Grund der aktuellen Lage\, müssen wir leider den Termin verschieben. \nSobald es wieder möglich ist\, werden wir den Termin veröffentlichen. \n
URL:https://mcwindsbach.de/event/auto-slalom-2020/
LOCATION:Hans Henglein & Sohn GmbH\, Beerbachstraße 19\, Abenberg\, 91183 
CATEGORIES:Motorsport
ORGANIZER;CN="Motorsportclub%20Windsbach%20e.V.%20im%20KS":MAILTO:kontakt@mcwindsbach.de
END:VEVENT
END:VCALENDAR