BEGIN:VCALENDAR
VERSION:2.0
PRODID:-//MC Windsbach - ECPv5.0.1//NONSGML v1.0//EN
CALSCALE:GREGORIAN
METHOD:PUBLISH
X-WR-CALNAME:MC Windsbach
X-ORIGINAL-URL:https://mcwindsbach.de
X-WR-CALDESC:Veranstaltungen im MC Windsbach
BEGIN:VTIMEZONE
TZID:Europe/Berlin
BEGIN:DAYLIGHT
TZOFFSETFROM:+0100
TZOFFSETTO:+0200
TZNAME:CEST
DTSTART:20220327T010000
END:DAYLIGHT
BEGIN:STANDARD
TZOFFSETFROM:+0200
TZOFFSETTO:+0100
TZNAME:CET
DTSTART:20221030T010000
END:STANDARD
END:VTIMEZONE
BEGIN:VEVENT
DTSTART;TZID=Europe/Berlin:20221016T130000
DTEND;TZID=Europe/Berlin:20221016T170000
DTSTAMP:20260423T193413
CREATED:20220424T151247Z
LAST-MODIFIED:20220424T152941Z
UID:1563-1665925200-1665939600@mcwindsbach.de
SUMMARY:Bildersuchfahrt 2022
DESCRIPTION:
URL:https://mcwindsbach.de/event/bildersuchfahrt-2022/
LOCATION:Bad Parkplatz Retzendorf\, Retzendorf 20\, Windsbach\, Bayern\, 91575\, Deutschland
CATEGORIES:Gesellig,Motorsport
ATTACH;FMTTYPE=image/jpeg:https://mcwindsbach.de/wp-content/uploads/2015/11/Orientierungsfahrt-3.jpg
ORGANIZER;CN="Motorsportclub%20Windsbach%20e.V.%20im%20KS":MAILTO:kontakt@mcwindsbach.de
END:VEVENT
END:VCALENDAR