BEGIN:VCALENDAR
VERSION:2.0
PRODID:-//MC Windsbach - ECPv5.0.1//NONSGML v1.0//EN
CALSCALE:GREGORIAN
METHOD:PUBLISH
X-WR-CALNAME:MC Windsbach
X-ORIGINAL-URL:https://mcwindsbach.de
X-WR-CALDESC:Veranstaltungen im MC Windsbach
BEGIN:VTIMEZONE
TZID:Europe/Berlin
BEGIN:DAYLIGHT
TZOFFSETFROM:+0100
TZOFFSETTO:+0200
TZNAME:CEST
DTSTART:20200329T010000
END:DAYLIGHT
BEGIN:STANDARD
TZOFFSETFROM:+0200
TZOFFSETTO:+0100
TZNAME:CET
DTSTART:20201025T010000
END:STANDARD
END:VTIMEZONE
BEGIN:VEVENT
DTSTART;TZID=Europe/Berlin:20201106T200000
DTEND;TZID=Europe/Berlin:20201106T220000
DTSTAMP:20260422T102147
CREATED:20201103T084137Z
LAST-MODIFIED:20201103T084137Z
UID:1462-1604692800-1604700000@mcwindsbach.de
SUMMARY:Clubabend November 2020 - Abgesagt!
DESCRIPTION:
URL:https://mcwindsbach.de/event/clubabend-november-2020-abgesagt/
LOCATION:Gasthaus Seitzinger\, Winkelhaid 40\, Windsbach\, Bayern\, 91575\, Deutschland
CATEGORIES:Gesellig
ORGANIZER;CN="Motorsportclub%20Windsbach%20e.V.%20im%20KS":MAILTO:kontakt@mcwindsbach.de
END:VEVENT
END:VCALENDAR