BEGIN:VCALENDAR
VERSION:2.0
PRODID:-//MC Windsbach - ECPv5.0.1//NONSGML v1.0//EN
CALSCALE:GREGORIAN
METHOD:PUBLISH
X-WR-CALNAME:MC Windsbach
X-ORIGINAL-URL:https://mcwindsbach.de
X-WR-CALDESC:Veranstaltungen im MC Windsbach
BEGIN:VTIMEZONE
TZID:Europe/Berlin
BEGIN:DAYLIGHT
TZOFFSETFROM:+0100
TZOFFSETTO:+0200
TZNAME:CEST
DTSTART:20200329T010000
END:DAYLIGHT
BEGIN:STANDARD
TZOFFSETFROM:+0200
TZOFFSETTO:+0100
TZNAME:CET
DTSTART:20201025T010000
END:STANDARD
END:VTIMEZONE
BEGIN:VEVENT
DTSTART;TZID=Europe/Berlin:20200628T130000
DTEND;TZID=Europe/Berlin:20200628T170000
DTSTAMP:20260422T002557
CREATED:20200203T084805Z
LAST-MODIFIED:20200516T083750Z
UID:1405-1593349200-1593363600@mcwindsbach.de
SUMMARY:Termin abgesagt â€“ Festzug 100-jÃ¤hriges MGV Eintracht Windsbach
DESCRIPTION:Auf Grund der aktuellen Lage\, wurde die Veranstaltung leider abgesagt. \n  \nEinladung zum 100-jÃ¤hrigen VereinsjubilÃ¤um 2020; \nFestumzug der Vereine \nSehr geehrteÂ® Frau/Herr Vorsitzende(r) \nDer MGV Eintracht Windsbach feiert im kommenden Jahr sein 100-jÃ¤hriges Bestehen. Wir wollen aus diesem Grunde einen Festumzug abhalten (Wegstrecke = alter Sportplatz bis KellerfestgelÃ¤nde) und zwar am Kellerfestsonntag = 28.06.2020. Aufstellung am alten Sportplatz mit JahnstraÃŸe-Jahnring. Abmarsch ab ca. 13:00 Uhr. Wir laden Sie herzlich ein\, uns die Ehre zu erweisen und bei uns mitzumachen. \n
URL:https://mcwindsbach.de/event/festzug-100-jaehriges-mgv-eintracht-windsbach/
LOCATION:Stadthalle Windsbach\, Jahnring 1\, Windsbach\, Bayern\, 91575\, Deutschland
CATEGORIES:Gesellig
ORGANIZER;CN="M%C3%A4nnergesangverein%20Eintracht%20Windsbach%20e.V.":MAILTO:vorstand@eintracht-windsbach.de
END:VEVENT
END:VCALENDAR