BEGIN:VCALENDAR
VERSION:2.0
PRODID:-//MC Windsbach - ECPv5.0.1//NONSGML v1.0//EN
CALSCALE:GREGORIAN
METHOD:PUBLISH
X-WR-CALNAME:MC Windsbach
X-ORIGINAL-URL:https://mcwindsbach.de
X-WR-CALDESC:Veranstaltungen im MC Windsbach
BEGIN:VTIMEZONE
TZID:Europe/Berlin
BEGIN:DAYLIGHT
TZOFFSETFROM:+0100
TZOFFSETTO:+0200
TZNAME:CEST
DTSTART:20200329T010000
END:DAYLIGHT
BEGIN:STANDARD
TZOFFSETFROM:+0200
TZOFFSETTO:+0100
TZNAME:CET
DTSTART:20201025T010000
END:STANDARD
END:VTIMEZONE
BEGIN:VEVENT
DTSTART;TZID=Europe/Berlin:20200621T130000
DTEND;TZID=Europe/Berlin:20200621T170000
DTSTAMP:20260422T020212
CREATED:20200127T063239Z
LAST-MODIFIED:20200619T211337Z
UID:1396-1592744400-1592758800@mcwindsbach.de
SUMMARY:Termin abgesagt – Gaudirallye 2020
DESCRIPTION:
URL:https://mcwindsbach.de/event/gaudirallye-2020/
LOCATION:Bad Parkplatz Retzendorf\, Retzendorf 20\, Windsbach\, Bayern\, 91575\, Deutschland
CATEGORIES:Gesellig,Motorsport
ORGANIZER;CN="Motorsportclub%20Windsbach%20e.V.%20im%20KS":MAILTO:kontakt@mcwindsbach.de
END:VEVENT
END:VCALENDAR