BEGIN:VCALENDAR
VERSION:2.0
PRODID:-//MC Windsbach - ECPv5.0.1//NONSGML v1.0//EN
CALSCALE:GREGORIAN
METHOD:PUBLISH
X-WR-CALNAME:MC Windsbach
X-ORIGINAL-URL:https://mcwindsbach.de
X-WR-CALDESC:Veranstaltungen im MC Windsbach
BEGIN:VTIMEZONE
TZID:Europe/Berlin
BEGIN:DAYLIGHT
TZOFFSETFROM:+0100
TZOFFSETTO:+0200
TZNAME:CEST
DTSTART:20200329T010000
END:DAYLIGHT
BEGIN:STANDARD
TZOFFSETFROM:+0200
TZOFFSETTO:+0100
TZNAME:CET
DTSTART:20201025T010000
END:STANDARD
END:VTIMEZONE
BEGIN:VEVENT
DTSTART;TZID=Europe/Berlin:20201010T160000
DTEND;TZID=Europe/Berlin:20201010T233000
DTSTAMP:20260422T052333
CREATED:20200127T063158Z
LAST-MODIFIED:20201005T064955Z
UID:1394-1602345600-1602372600@mcwindsbach.de
SUMMARY:Grillfest 2020 - findet statt!
DESCRIPTION:Wenn es nicht regnet findet das Grillfest ab 16 Uhr statt. \n
URL:https://mcwindsbach.de/event/grillfest-2020/
LOCATION:Motorsportarena Wernsbachring\, St2410\, Windsbach\, Bayern\, 91575\, Deutschland
CATEGORIES:Autocross,Gesellig,Motorsport,Vorstandschaft
ATTACH;FMTTYPE=image/png:https://mcwindsbach.de/wp-content/uploads/2018/07/Fahrerbesprechung.png
ORGANIZER;CN="Motorsportclub%20Windsbach%20e.V.%20im%20KS":MAILTO:kontakt@mcwindsbach.de
END:VEVENT
END:VCALENDAR