BEGIN:VCALENDAR
VERSION:2.0
PRODID:-//MC Windsbach - ECPv5.0.1//NONSGML v1.0//EN
CALSCALE:GREGORIAN
METHOD:PUBLISH
X-WR-CALNAME:MC Windsbach
X-ORIGINAL-URL:https://mcwindsbach.de
X-WR-CALDESC:Veranstaltungen im MC Windsbach
BEGIN:VTIMEZONE
TZID:Europe/Berlin
BEGIN:DAYLIGHT
TZOFFSETFROM:+0100
TZOFFSETTO:+0200
TZNAME:CEST
DTSTART:20220327T010000
END:DAYLIGHT
BEGIN:STANDARD
TZOFFSETFROM:+0200
TZOFFSETTO:+0100
TZNAME:CET
DTSTART:20221030T010000
END:STANDARD
END:VTIMEZONE
BEGIN:VEVENT
DTSTART;TZID=Europe/Berlin:20220430T160000
DTEND;TZID=Europe/Berlin:20220430T233000
DTSTAMP:20260423T095339
CREATED:20220424T151515Z
LAST-MODIFIED:20220424T151515Z
UID:1565-1651334400-1651361400@mcwindsbach.de
SUMMARY:Grillfest 2022
DESCRIPTION:Vorher ab 10 Uhr Arbeitsdienst \nFÃ¼r GetrÃ¤nke ist gesorgt. \n  \n
URL:https://mcwindsbach.de/event/grillfest-2022/
LOCATION:Motorsportarena Wernsbachring\, St2410\, Windsbach\, Bayern\, 91575\, Deutschland
CATEGORIES:Gesellig
ATTACH;FMTTYPE=image/jpeg:https://mcwindsbach.de/wp-content/uploads/2015/11/Strecke_Luftaufnahme_700_700.jpg
ORGANIZER;CN="Motorsportclub%20Windsbach%20e.V.%20im%20KS":MAILTO:kontakt@mcwindsbach.de
END:VEVENT
END:VCALENDAR