BEGIN:VCALENDAR
VERSION:2.0
PRODID:-//MC Windsbach - ECPv5.0.1//NONSGML v1.0//EN
CALSCALE:GREGORIAN
METHOD:PUBLISH
X-WR-CALNAME:MC Windsbach
X-ORIGINAL-URL:https://mcwindsbach.de
X-WR-CALDESC:Veranstaltungen im MC Windsbach
BEGIN:VTIMEZONE
TZID:Europe/Berlin
BEGIN:DAYLIGHT
TZOFFSETFROM:+0100
TZOFFSETTO:+0200
TZNAME:CEST
DTSTART:20190331T010000
END:DAYLIGHT
BEGIN:STANDARD
TZOFFSETFROM:+0200
TZOFFSETTO:+0100
TZNAME:CET
DTSTART:20191027T010000
END:STANDARD
END:VTIMEZONE
BEGIN:VEVENT
DTSTART;TZID=Europe/Berlin:20191206T200000
DTEND;TZID=Europe/Berlin:20191206T233000
DTSTAMP:20260422T120750
CREATED:20190114T103946Z
LAST-MODIFIED:20190114T103946Z
UID:1124-1575662400-1575675000@mcwindsbach.de
SUMMARY:Jahreshauptversammlung 2019
DESCRIPTION:
URL:https://mcwindsbach.de/event/jahreshauptversammlung-2019/
LOCATION:Landgasthof zum Mönchshof\, Selgenstadt 6\, Wolframs-Eschenbach\, Bayern\, 91639 \, Deutschland
CATEGORIES:Gesellig,Vorstandschaft
ORGANIZER;CN="Motorsportclub%20Windsbach%20e.V.%20im%20KS":MAILTO:kontakt@mcwindsbach.de
END:VEVENT
END:VCALENDAR