BEGIN:VCALENDAR
VERSION:2.0
PRODID:-//MC Windsbach - ECPv5.0.1//NONSGML v1.0//EN
CALSCALE:GREGORIAN
METHOD:PUBLISH
X-WR-CALNAME:MC Windsbach
X-ORIGINAL-URL:https://mcwindsbach.de
X-WR-CALDESC:Veranstaltungen im MC Windsbach
BEGIN:VTIMEZONE
TZID:Europe/Berlin
BEGIN:DAYLIGHT
TZOFFSETFROM:+0100
TZOFFSETTO:+0200
TZNAME:CEST
DTSTART:20240331T010000
END:DAYLIGHT
BEGIN:STANDARD
TZOFFSETFROM:+0200
TZOFFSETTO:+0100
TZNAME:CET
DTSTART:20241027T010000
END:STANDARD
END:VTIMEZONE
BEGIN:VEVENT
DTSTART;TZID=Europe/Berlin:20241117T103000
DTEND;TZID=Europe/Berlin:20241117T133000
DTSTAMP:20260425T155201
CREATED:20240405T145917Z
LAST-MODIFIED:20240405T150534Z
UID:2450-1731839400-1731850200@mcwindsbach.de
SUMMARY:Volkstrauertag 2024
DESCRIPTION:AnlÃ¤sslich des Volkstrauertages am Sonntag\, 17. November 2022\nfinden folgende Gedenkfeiern an den Gefallenen-Ehrenmalen statt: \nWindsbach 10.45 Uhr \nDazu ergeht an die Ã¶rtlichen Vereine und die GesamtbevÃ¶lkerung\nherzliche Einladung.\nDie Vereine und VerbÃ¤nde aus dem Stadtzentrum Windsbach werden gebeten\, an dem Trauerzug\, der traditionsgemÃ¤ÃŸ nach den Gottesdiensten gegen 10.30 Uhr vor dem Rathaus Aufstellung nimmt\, mit den Fahnenabordnungen mÃ¶glichst zahlreich teilzunehmen.\n. Im Anschluss an die Gedenkfeier am Windsbacher Kriegerdenkmal findet ein gemeinsames Mittagessen im Gasthaus Il Coros statt. \n  \n
URL:https://mcwindsbach.de/event/volkstrauertag-2024/
LOCATION:Rathaus Stadt Windsbach\, HauptstraÃŸe 15\, Windsbach\, Bayern\, 91575\, Deutschland
CATEGORIES:Gesellig
ORGANIZER;CN="Stadt%20Windsbach":MAILTO:poststelle@windsbach.de
END:VEVENT
END:VCALENDAR