BEGIN:VCALENDAR
VERSION:2.0
PRODID:-//MC Windsbach - ECPv5.0.1//NONSGML v1.0//EN
CALSCALE:GREGORIAN
METHOD:PUBLISH
X-WR-CALNAME:MC Windsbach
X-ORIGINAL-URL:https://mcwindsbach.de
X-WR-CALDESC:Veranstaltungen im MC Windsbach
BEGIN:VTIMEZONE
TZID:Europe/Berlin
BEGIN:DAYLIGHT
TZOFFSETFROM:+0100
TZOFFSETTO:+0200
TZNAME:CEST
DTSTART:20200329T010000
END:DAYLIGHT
BEGIN:STANDARD
TZOFFSETFROM:+0200
TZOFFSETTO:+0100
TZNAME:CET
DTSTART:20201025T010000
END:STANDARD
END:VTIMEZONE
BEGIN:VEVENT
DTSTART;TZID=Europe/Berlin:20201212T190000
DTEND;TZID=Europe/Berlin:20201212T190000
DTSTAMP:20260422T135329
CREATED:20200125T185105Z
LAST-MODIFIED:20201130T124228Z
UID:1381-1607799600-1607799600@mcwindsbach.de
SUMMARY:Weihnachtsfeier 2020 – Abgesagt!
DESCRIPTION:Da die Gaststätten nicht geöffnet sind\, müssen wir leider den Termin absagen. \nWir wünschen Euch eine frohe und besinnliche Weihnachtszeit und einen Guten Rutsch ins neue Jahr. \n
URL:https://mcwindsbach.de/event/weihnachtsfeier-2020/
LOCATION:Gasthaus Seitzinger\, Winkelhaid 40\, Windsbach\, Bayern\, 91575\, Deutschland
CATEGORIES:Gesellig
ATTACH;FMTTYPE=image/jpeg:https://mcwindsbach.de/wp-content/uploads/2017/01/Clubmeisterschaft2016.jpg
ORGANIZER;CN="Motorsportclub%20Windsbach%20e.V.%20im%20KS":MAILTO:kontakt@mcwindsbach.de
END:VEVENT
END:VCALENDAR